BEGIN:VCALENDAR
VERSION:2.0
PRODID:-//wp-events-plugin.com//7.2.3.1//EN
BEGIN:VEVENT
UID:1003@calendar.cjccf.org
DTSTART;TZID=America/New_York:20260406T210000
DTEND;TZID=America/New_York:20260406T230000
DTSTAMP:20260327T003106Z
URL:https://calendar.cjccf.org/events/book-of-mormon-perspectives-forum-2/
SUMMARY:Book of Mormon Perspectives Forum
DESCRIPTION:9:00pm ET\, 8:00pm CT\, 7:00pm MT\, 6:00pm PT\nNote: this grou
 ps is not affiliated with the Fellowship of Christ\, but does share common
  goals of unity and a love for the Book of Mormon.
ATTACH;FMTTYPE=image/jpeg:https://calendar.cjccf.org/wp-content/uploads/20
 24/08/Book-of-Mormon-gold-plates.jpeg
LOCATION:https://us02web.zoom.us/j/2714958353
END:VEVENT
BEGIN:VTIMEZONE
TZID:America/New_York
X-LIC-LOCATION:America/New_York
BEGIN:DAYLIGHT
DTSTART:20260308T030000
TZOFFSETFROM:-0500
TZOFFSETTO:-0400
TZNAME:EDT
END:DAYLIGHT
END:VTIMEZONE
END:VCALENDAR