BEGIN:VCALENDAR
VERSION:2.0
PRODID:-//wp-events-plugin.com//7.2.3.1//EN
BEGIN:VEVENT
UID:970@calendar.cjccf.org
DTSTART;TZID=America/New_York:20260331T210000
DTEND;TZID=America/New_York:20260331T220000
DTSTAMP:20260331T222258Z
URL:https://calendar.cjccf.org/events/council-of-fifty-11/
SUMMARY:Council of Fifty - Canceled
DESCRIPTION:See you next week! 
ATTACH;FMTTYPE=image/jpeg:https://calendar.cjccf.org/wp-content/uploads/20
 23/01/school-work-gc7e00417d_640.jpg
END:VEVENT
BEGIN:VTIMEZONE
TZID:America/New_York
X-LIC-LOCATION:America/New_York
BEGIN:DAYLIGHT
DTSTART:20260308T030000
TZOFFSETFROM:-0500
TZOFFSETTO:-0400
TZNAME:EDT
END:DAYLIGHT
END:VTIMEZONE
END:VCALENDAR