BEGIN:VCALENDAR
VERSION:2.0
PRODID:-//wp-events-plugin.com//7.2.3.1//EN
BEGIN:VEVENT
UID:971@calendar.cjccf.org
DTSTART;TZID=America/New_York:20260407T210000
DTEND;TZID=America/New_York:20260407T220000
DTSTAMP:20260304T013107Z
URL:https://calendar.cjccf.org/events/council-of-fifty-12/
SUMMARY:Council of Fifty
DESCRIPTION:9:00pm ET\, 8:00pm CT\, 7:00pm MT\, 6:00pm PT/AK
ATTACH;FMTTYPE=image/jpeg:https://calendar.cjccf.org/wp-content/uploads/20
 23/01/school-work-gc7e00417d_640.jpg
LOCATION:http://meet.google.com/tut-fuhn-zoz
END:VEVENT
BEGIN:VTIMEZONE
TZID:America/New_York
X-LIC-LOCATION:America/New_York
BEGIN:DAYLIGHT
DTSTART:20260308T030000
TZOFFSETFROM:-0500
TZOFFSETTO:-0400
TZNAME:EDT
END:DAYLIGHT
END:VTIMEZONE
END:VCALENDAR