BEGIN:VCALENDAR
VERSION:2.0
PRODID:-//wp-events-plugin.com//7.2.3.1//EN
BEGIN:VEVENT
UID:911@calendar.cjccf.org
DTSTART;TZID=America/New_York:20260217T210000
DTEND;TZID=America/New_York:20260217T220000
DTSTAMP:20260112T224533Z
URL:https://calendar.cjccf.org/events/council-of-fifty-6/
SUMMARY:Council of Fifty
DESCRIPTION:9:00pm ET\, 8:00pm CT\, 7:00pm MT\, 6:00pm PT/AK
ATTACH;FMTTYPE=image/jpeg:https://calendar.cjccf.org/wp-content/uploads/20
 23/01/school-work-gc7e00417d_640.jpg
LOCATION:http://meet.google.com/tut-fuhn-zoz
END:VEVENT
BEGIN:VTIMEZONE
TZID:America/New_York
X-LIC-LOCATION:America/New_York
BEGIN:STANDARD
DTSTART:20251102T010000
TZOFFSETFROM:-0400
TZOFFSETTO:-0500
TZNAME:EST
END:STANDARD
END:VTIMEZONE
END:VCALENDAR