BEGIN:VCALENDAR
VERSION:2.0
PRODID:-//wp-events-plugin.com//7.2.3.1//EN
BEGIN:VEVENT
UID:904@calendar.cjccf.org
DTSTART;TZID=America/New_York:20260317T203000
DTEND;TZID=America/New_York:20260317T210000
DTSTAMP:20260112T224217Z
URL:https://calendar.cjccf.org/events/farmhouse-family-revelations-9/
SUMMARY:Farmhouse Family Revelations
DESCRIPTION:8:30pm ET\, 7:30pm CT\, 6:30pm MT\, 5:30pm PT/AK\n"I am calling
  you to unite more closely by coming together in my house and serving in m
 y house..." –Doctrines of the Saints 137a:5
ATTACH;FMTTYPE=image/jpeg:https://calendar.cjccf.org/wp-content/uploads/20
 25/08/field-4452538_1920.webp
LOCATION:https://meet.google.com/rqx-wakf-npx
END:VEVENT
BEGIN:VTIMEZONE
TZID:America/New_York
X-LIC-LOCATION:America/New_York
BEGIN:DAYLIGHT
DTSTART:20260308T030000
TZOFFSETFROM:-0500
TZOFFSETTO:-0400
TZNAME:EDT
END:DAYLIGHT
END:VTIMEZONE
END:VCALENDAR