BEGIN:VCALENDAR
VERSION:2.0
PRODID:-//wp-events-plugin.com//7.2.3.1//EN
BEGIN:VEVENT
UID:976@calendar.cjccf.org
DTSTART;TZID=America/New_York:20260319T210000
DTEND;TZID=America/New_York:20260319T220000
DTSTAMP:20260312T010625Z
URL:https://calendar.cjccf.org/events/mormon-kabbalah-discussion-group-16/
SUMMARY:Mormon Kabbalah Discussion Group
DESCRIPTION:9:00pm ET\, 8:00pm CT\, 7:00pm MT\, 6:00pm PT\n\n"Kabbalah is t
 he tradition of Israel\, it is my doctrine\, and thus it is a mysterious a
 rt\, for my doctrine is too simple for mankind to comprehend.” –Doctri
 nes of the Saints 125:8
ATTACH;FMTTYPE=image/jpeg:https://calendar.cjccf.org/wp-content/uploads/20
 24/02/b07a9faf-5804-47c7-91b1-dd95aaf1357b.jpeg
LOCATION:https://meet.google.com/dzn-roym-zfq?hs=224
END:VEVENT
BEGIN:VTIMEZONE
TZID:America/New_York
X-LIC-LOCATION:America/New_York
BEGIN:DAYLIGHT
DTSTART:20260308T030000
TZOFFSETFROM:-0500
TZOFFSETTO:-0400
TZNAME:EDT
END:DAYLIGHT
END:VTIMEZONE
END:VCALENDAR