BEGIN:VCALENDAR
VERSION:2.0
PRODID:-//wp-events-plugin.com//7.2.3.1//EN
BEGIN:VEVENT
UID:980@calendar.cjccf.org
DTSTART;TZID=America/New_York:20260416T210000
DTEND;TZID=America/New_York:20260416T220000
DTSTAMP:20260416T135122Z
URL:https://calendar.cjccf.org/events/mormon-kabbalah-discussion-group-20/
SUMMARY:Mormon Kabbalah Discussion Group (Cancelled\, See You Next Week!)
DESCRIPTION:"Kabbalah is the tradition of Israel\, it is my doctrine\, and 
 thus it is a mysterious art\, for my doctrine is too simple for mankind to
  comprehend.” –Doctrines of the Saints 125:8
ATTACH;FMTTYPE=image/jpeg:https://calendar.cjccf.org/wp-content/uploads/20
 24/02/b07a9faf-5804-47c7-91b1-dd95aaf1357b.jpeg
END:VEVENT
BEGIN:VTIMEZONE
TZID:America/New_York
X-LIC-LOCATION:America/New_York
BEGIN:DAYLIGHT
DTSTART:20260308T030000
TZOFFSETFROM:-0500
TZOFFSETTO:-0400
TZNAME:EDT
END:DAYLIGHT
END:VTIMEZONE
END:VCALENDAR