BEGIN:VCALENDAR
VERSION:2.0
PRODID:-//wp-events-plugin.com//7.2.3.1//EN
BEGIN:VEVENT
UID:1000@calendar.cjccf.org
DTSTART;TZID=America/New_York:20260422T210000
DTEND;TZID=America/New_York:20260422T220000
DTSTAMP:20260327T002703Z
URL:https://calendar.cjccf.org/events/priesthood-101-4/
SUMMARY:Priesthood 101
DESCRIPTION:9:00pm ET\, 8:00pm CT\, 7:00pm MT\, 6:00pm PT\n"There are but t
 wo priesthoods: the Low Priesthood of Life (Levitical\, Aaronic and Miriam
 ic) and the High Priesthood of Eternal Life (Melchizedek and Magdalen)\, L
 ow for it is to prepare the earth and the High for it is to bring the Heav
 ens to the earth\; and neither is lesser nor greater for both are the same
  Holy Priesthood\, after the Order of the Son of God." –March 20\, 2026 
 Revelation 
ATTACH;FMTTYPE=image/jpeg:https://calendar.cjccf.org/wp-content/uploads/20
 26/03/meditating-in-library-surrounded-by-others-59.jpg
LOCATION:https://meet.google.com/isn-bzsf-isa?hs=224
END:VEVENT
BEGIN:VTIMEZONE
TZID:America/New_York
X-LIC-LOCATION:America/New_York
BEGIN:DAYLIGHT
DTSTART:20260308T030000
TZOFFSETFROM:-0500
TZOFFSETTO:-0400
TZNAME:EDT
END:DAYLIGHT
END:VTIMEZONE
END:VCALENDAR