BEGIN:VCALENDAR
VERSION:2.0
PRODID:-//wp-events-plugin.com//7.2.3.1//EN
BEGIN:VEVENT
UID:1015@calendar.cjccf.org
DTSTART;TZID=America/New_York:20260621T160000
DTEND;TZID=America/New_York:20260621T170000
DTSTAMP:20260408T005402Z
URL:https://calendar.cjccf.org/events/seeking-the-face-of-the-lord-20/
SUMMARY:Seeking the Face of the Lord
DESCRIPTION:4pm ET\, 3pm CT\, 2pm MT\, 1pm CT\n“I love those who love me\
 ; and those who diligently seek me will find me." –Proverbs 8:17
ATTACH;FMTTYPE=image/jpeg:https://calendar.cjccf.org/wp-content/uploads/20
 26/01/ai-generated-8976114_1920.webp
LOCATION:https://meet.google.com/wts-yuys-ksc
END:VEVENT
BEGIN:VTIMEZONE
TZID:America/New_York
X-LIC-LOCATION:America/New_York
BEGIN:DAYLIGHT
DTSTART:20260308T030000
TZOFFSETFROM:-0500
TZOFFSETTO:-0400
TZNAME:EDT
END:DAYLIGHT
END:VTIMEZONE
END:VCALENDAR