BEGIN:VCALENDAR
VERSION:2.0
PRODID:-//wp-events-plugin.com//7.2.3.1//EN
BEGIN:VEVENT
UID:947@calendar.cjccf.org
DTSTART;TZID=America/New_York:20260211T210000
DTEND;TZID=America/New_York:20260211T220000
DTSTAMP:20260205T020536Z
URL:https://calendar.cjccf.org/events/sisters-in-fellowship-17/
SUMMARY:Sisters in Fellowship
DESCRIPTION:9:00pm ET (Ohio)\, 8:00pm CT (Missouri)\, 7:00pm MT (Utah)\, 6:
 00pm PT/AT (Oregon/Alaska)\, 5pm HD (Alaska/Hawaii)\nWe invite you to join
  us in fellowship as we work to uplift and strengthen one another and nurt
 ure our spiritual gifts and inherent power as sisters in Christ and leader
 s in the Kingdom of God.
ATTACH;FMTTYPE=image/jpeg:https://calendar.cjccf.org/wp-content/uploads/20
 25/09/3345852.webp
LOCATION:https://meet.google.com/ffw-ryvo-oto
END:VEVENT
BEGIN:VTIMEZONE
TZID:America/New_York
X-LIC-LOCATION:America/New_York
BEGIN:STANDARD
DTSTART:20251102T010000
TZOFFSETFROM:-0400
TZOFFSETTO:-0500
TZNAME:EST
END:STANDARD
END:VTIMEZONE
END:VCALENDAR