BEGIN:VCALENDAR
VERSION:2.0
PRODID:-//wp-events-plugin.com//7.2.3.1//EN
BEGIN:VEVENT
UID:993@calendar.cjccf.org
DTSTART;TZID=America/New_York:20260409T200000
DTEND;TZID=America/New_York:20260409T210000
DTSTAMP:20260327T002417Z
URL:https://calendar.cjccf.org/events/sisters-in-fellowship-24/
SUMMARY:Sisters in Fellowship
DESCRIPTION:8:00pm ET (Ohio)\, 7:00pm CT (Missouri)\, 6:00pm MT (Utah)\, 5:
 00pm PT/AT (Oregon/Alaska)\, 4pm HD (Alaska/Hawaii)\nWe invite you to join
  us in fellowship as we work to uplift and strengthen one another and nurt
 ure our spiritual gifts and inherent power as sisters in Christ and leader
 s in the Kingdom of God.
ATTACH;FMTTYPE=image/jpeg:https://calendar.cjccf.org/wp-content/uploads/20
 25/09/3345852.webp
LOCATION:https://meet.google.com/ffw-ryvo-oto
END:VEVENT
BEGIN:VTIMEZONE
TZID:America/New_York
X-LIC-LOCATION:America/New_York
BEGIN:DAYLIGHT
DTSTART:20260308T030000
TZOFFSETFROM:-0500
TZOFFSETTO:-0400
TZNAME:EDT
END:DAYLIGHT
END:VTIMEZONE
END:VCALENDAR