BEGIN:VCALENDAR
VERSION:2.0
PRODID:-//wp-events-plugin.com//7.2.3.1//EN
BEGIN:VEVENT
UID:931@calendar.cjccf.org
DTSTART;TZID=America/New_York:20260419T170000
DTEND;TZID=America/New_York:20260419T180000
DTSTAMP:20260202T191804Z
URL:https://calendar.cjccf.org/events/sunday-praise-prayer-and-devotional-
 14/
SUMMARY:Sunday Praise\, Prayer\, and Devotional
DESCRIPTION:5:00pm ET\, 4:00pm CT\, 3:00pm MT\, 2:00m PT\, 10:00pm UK\n\n"A
 nd we did fast and pray and lift up our hands and hearts continually that 
 we could be protected and delivered." -Shulemna 1:21 [1:5c]
ATTACH;FMTTYPE=image/jpeg:https://calendar.cjccf.org/wp-content/uploads/20
 24/07/6a35d986-da01-4a93-a62c-73ea5a23a147.jpeg
LOCATION:https://meet.google.com/rqx-wakf-npx
END:VEVENT
BEGIN:VTIMEZONE
TZID:America/New_York
X-LIC-LOCATION:America/New_York
BEGIN:DAYLIGHT
DTSTART:20260308T030000
TZOFFSETFROM:-0500
TZOFFSETTO:-0400
TZNAME:EDT
END:DAYLIGHT
END:VTIMEZONE
END:VCALENDAR