BEGIN:VCALENDAR
VERSION:2.0
PRODID:-//wp-events-plugin.com//7.2.3.1//EN
BEGIN:VEVENT
UID:987@calendar.cjccf.org
DTSTART;TZID=America/New_York:20260408T150000
DTEND;TZID=America/New_York:20260408T160000
DTSTAMP:20260325T185956Z
URL:https://calendar.cjccf.org/events/taken-up-into-heaven-17/
SUMMARY:Taken up into Heaven
DESCRIPTION:3pm ET\, 2pm CT\, 1pm MT\, 12pm PT\n\n"And it came to pass\, as
  they still went on\, and talked\, that\, behold\, there appeared a chario
 t of fire\, and horses of fire\, and parted them both asunder\; and Elijah
  went up by a whirlwind into heaven." -2 Kings 2:11
ATTACH;FMTTYPE=image/jpeg:https://calendar.cjccf.org/wp-content/uploads/20
 24/01/elijah01.jpeg
LOCATION:https://meet.google.com/rqx-wakf-npx
END:VEVENT
BEGIN:VTIMEZONE
TZID:America/New_York
X-LIC-LOCATION:America/New_York
BEGIN:DAYLIGHT
DTSTART:20260308T030000
TZOFFSETFROM:-0500
TZOFFSETTO:-0400
TZNAME:EDT
END:DAYLIGHT
END:VTIMEZONE
END:VCALENDAR