BEGIN:VCALENDAR
VERSION:2.0
PRODID:-//wp-events-plugin.com//7.2.3.1//EN
BEGIN:VEVENT
UID:955@calendar.cjccf.org
DTSTART;TZID=America/New_York:20260303T123000
DTEND;TZID=America/New_York:20260303T133000
DTSTAMP:20260210T173803Z
URL:https://calendar.cjccf.org/events/teachers-quorum-14/
SUMMARY:Teachers Quorum
DESCRIPTION:12:30pm ET\, 11:30am CT\, 10:30am MT\, 9:30am PT\nMeeting to di
 scuss the needs of the teachers and the School of the Prophets. 
ATTACH;FMTTYPE=image/jpeg:https://calendar.cjccf.org/wp-content/uploads/20
 25/11/remote-6871601_1280.png
LOCATION:https://meet.google.com/krg-btfx-gzq
END:VEVENT
BEGIN:VTIMEZONE
TZID:America/New_York
X-LIC-LOCATION:America/New_York
BEGIN:STANDARD
DTSTART:20251102T010000
TZOFFSETFROM:-0400
TZOFFSETTO:-0500
TZNAME:EST
END:STANDARD
END:VTIMEZONE
END:VCALENDAR